BEGIN:VCALENDAR
VERSION:2.0
PRODID:-//wp-events-plugin.com//7.2.3.1//EN
TZID:America/New_York
X-WR-TIMEZONE:America/New_York
BEGIN:VEVENT
UID:1079@ivhog.org
DTSTART;TZID=America/New_York:20181026T190000
DTEND;TZID=America/New_York:20181026T220000
DTSTAMP:20181025T001521Z
URL:http://www.ivhog.org/events/10-26-2018-haunted-hayride-tylersport-fire
 house/
SUMMARY:10-26-2018 HAUNTED HAYRIDE TYLERSPORT FIREHOUSE
DESCRIPTION:FRIDAY NIGHT OCTOBER 26&nbsp\; HAUNTED HAYRIDE TYLERSPORT FIREH
 OUSE\nJoin with your friends for dinner at JT BANKERS&nbsp\;&nbsp\; 7:00 P
 M for pre fright food as we wait for darkness to fall and the ghouls to ri
 se\nWe will return to Tylersport for chills and thrills $10.00 per person 
 and it benefits the fire company. If you don't want to go on the hayride j
 oin up for dinner with your IV HOG friends.\n&nbsp\;\nQuestion contact Lis
 a:&nbsp\;&nbsp\;backrider62@outlook.com&nbsp\;&nbsp\;&nbsp\;&nbsp\; 215-56
 5-5780
CATEGORIES:IVHOG Rides
LOCATION:JT Bankers\,  309 S. Main Street\, Sellersville\, PA\, 18960\, Uni
 ted States
GEO:40.352363;-75.30532699999998
X-APPLE-STRUCTURED-LOCATION;VALUE=URI;X-ADDRESS= 309 S. Main Street\, Selle
 rsville\, PA\, 18960\, United States;X-APPLE-RADIUS=100;X-TITLE=JT Bankers
 :geo:40.352363,-75.30532699999998
END:VEVENT
BEGIN:VTIMEZONE
TZID:America/New_York
X-LIC-LOCATION:America/New_York
BEGIN:DAYLIGHT
DTSTART:20180311T030000
TZOFFSETFROM:-0500
TZOFFSETTO:-0400
TZNAME:EDT
END:DAYLIGHT
END:VTIMEZONE
END:VCALENDAR