BEGIN:VCALENDAR
VERSION:2.0
PRODID:-//wp-events-plugin.com//7.2.3.1//EN
TZID:America/New_York
X-WR-TIMEZONE:America/New_York
BEGIN:VEVENT
UID:1206@ivhog.org
DTSTART;TZID=America/New_York:20200524T100000
DTEND;TZID=America/New_York:20200524T160000
DTSTAMP:20200505T044710Z
URL:http://www.ivhog.org/events/12131/
SUMMARY:Cancelled Rolling Thunder May 24th\, 2020
DESCRIPTION:[caption id="attachment_4241" align="alignnone" width="300"] Th
 is ride has been CANCELED[/caption]\n\nDear Brothers &amp\; Sisters:\n\nI 
 hope this letter finds everyone healthy and being safe during this pandemi
 c&nbsp\; in&nbsp\; our county and the world. This has been a very trying t
 ime for all of us and a decision had to be made for the health and safety 
 of our members and our supporters that attend our events.\n\nDue to the ep
 idemic all over our country\, we are following Federal and State mandates 
 to cancel our Memorial Day "Ride for Freedom" May 24th demonstration run&n
 bsp\; in&nbsp\; New Jersey. The next few weeks and months are uncertain an
 d one thing our organization will not do is put our membership and support
 ers at risk for this virus. I hope everyone keeps their distance\, makes s
 afe decisions and follow Federal\, State and local health mandates. We are
  looking forward to the future and will continue our Memorial "Ride for Fr
 eedom" Nationwide demonstration in 2021. We must keep the Faith\, better t
 imes are ahead.\n\nWe will be getting out information about the 2020 Rolli
 ng Thunder® Bike Raffle. Do not return your bike tickets. We are discussi
 ng the bike raffle with our Attorney and will be notifying the Chapters.\n
 \nThank you for your understanding. Remember our POWs/MIAs\, our Troops se
 rving and God Bless America.
CATEGORIES:Community Event,Group Trip,In Memorium
LOCATION:Freedom Valley Harley Davidson\, 3255 State Road\, Sellersville\, 
 PA\, USA\, 18960\, United States
GEO:40.344341;-75.305054
X-APPLE-STRUCTURED-LOCATION;VALUE=URI;X-ADDRESS=3255 State Road\, Sellersvi
 lle\, PA\, USA\, 18960\, United States;X-APPLE-RADIUS=100;X-TITLE=Freedom 
 Valley Harley Davidson:geo:40.344341,-75.305054
END:VEVENT
BEGIN:VTIMEZONE
TZID:America/New_York
X-LIC-LOCATION:America/New_York
BEGIN:DAYLIGHT
DTSTART:20200308T030000
TZOFFSETFROM:-0500
TZOFFSETTO:-0400
TZNAME:EDT
END:DAYLIGHT
END:VTIMEZONE
END:VCALENDAR