BEGIN:VCALENDAR
VERSION:2.0
PRODID:-//wp-events-plugin.com//7.2.3.1//EN
TZID:America/New_York
X-WR-TIMEZONE:America/New_York
BEGIN:VEVENT
UID:1078@ivhog.org
DTSTART;TZID=America/New_York:20181013T090000
DTEND;TZID=America/New_York:20181013T160000
DTSTAMP:20181008T013547Z
URL:http://www.ivhog.org/events/13th-annual-van-sant-airport-wheels-wings/
SUMMARY:13th Annual Van Sant Airport Wheels & Wings
DESCRIPTION:Cart Truck and Bike show\,&nbsp\;$10.00 Entry Fee\, no spectato
 r fee.\n\nKSU 9 AM at Hannum's HD Sellersville\n\nWheels &amp\; wings show
  at Van Sant historical airport 10-13-2018 with rain date of 10-14-2018 Sh
 ow is 10-3\, airport open for flights 10-5&nbsp\;&nbsp\;All cars\, trucks 
 and motorcycles\, planes and helicopters are welcome to show&nbsp\;Locatio
 n: 516 Cafferty Rd\, Erwinna\, PA 18920.&nbsp\;$10 donation entry for show
 \, spectators are free\,&nbsp\;hand made awards and best of show receives 
 a flying gift certificates will be given out at 3pm for top 10 vehicles an
 d top 3 bikes.&nbsp\;Flights are 10-5 and be scheduled ahead of time(call 
 airport) or the day of.&nbsp\;&nbsp\;Tshirts and collectable posters will 
 be for sale. Discounted plane and glider rides.&nbsp\;many Biplanes\, Stun
 t planes and helicopters will be on display. Local made food and music.&nb
 sp\;&nbsp\;show proceed will be given to Van Sant to help with keeping thi
 s historic airport thriving.&nbsp\;For more info about the show or wish to
  donate to help\,&nbsp\;&nbsp\;Please email sales@nothingleavesstock.com o
 r contact van sant at-1.866.MustFly\n\nMore information on Facebook about 
 the event:&nbsp\;https://www.facebook.com/events/280301522799569/\n
CATEGORIES:IVHOG Rides
LOCATION:Hannum's Harley-Davidson Sellersville PA\, 3255 State Road\, Sell
 ersville\, PA\, 18960\, United States
GEO:40.344734;-75.305969
X-APPLE-STRUCTURED-LOCATION;VALUE=URI;X-ADDRESS=3255 State Road\, Sellersvi
 lle\, PA\, 18960\, United States;X-APPLE-RADIUS=100;X-TITLE=Hannum's Harle
 y-Davidson Sellersville PA:geo:40.344734,-75.305969
END:VEVENT
BEGIN:VTIMEZONE
TZID:America/New_York
X-LIC-LOCATION:America/New_York
BEGIN:DAYLIGHT
DTSTART:20180311T030000
TZOFFSETFROM:-0500
TZOFFSETTO:-0400
TZNAME:EDT
END:DAYLIGHT
END:VTIMEZONE
END:VCALENDAR