BEGIN:VCALENDAR
VERSION:2.0
PRODID:-//wp-events-plugin.com//7.2.3.1//EN
TZID:America/New_York
X-WR-TIMEZONE:America/New_York
BEGIN:VEVENT
UID:1352@ivhog.org
DTSTART;TZID=America/New_York:20220605T090000
DTEND;TZID=America/New_York:20220605T160000
DTSTAMP:20220531T122003Z
URL:http://www.ivhog.org/events/1st-crab-run-to-maryland-of-2022/
SUMMARY:1st Crab Run to Maryland of 2022
DESCRIPTION:First trip of the season to Maryland for some Crabs! Mostly bac
 k roads to the River Shack in Charlestown\, MD.  KSU 9:00 am from the Ral
 ph's Corner WaWa    https://wellwoodcrabs.com/\n\n\n\n
ATTACH;FMTTYPE=image/jpeg:http://www.ivhog.org/wp-content/uploads/helmet.j
 pg
CATEGORIES:IVHOG Rides
LOCATION:WAWA - Forty Foot Rd. Ralphs Corner\, 200 Forty Foot Rd. &amp\; We
 lsh Rd.\, Hatfield\, PA\, 19440\, United States
GEO:40.2630072;-75.31942379999998
X-APPLE-STRUCTURED-LOCATION;VALUE=URI;X-ADDRESS=200 Forty Foot Rd. & Welsh 
 Rd.\, Hatfield\, PA\, 19440\, United States;X-APPLE-RADIUS=100;X-TITLE=WAW
 A - Forty Foot Rd. Ralphs Corner:geo:40.2630072,-75.31942379999998
END:VEVENT
BEGIN:VTIMEZONE
TZID:America/New_York
X-LIC-LOCATION:America/New_York
BEGIN:DAYLIGHT
DTSTART:20220313T030000
TZOFFSETFROM:-0500
TZOFFSETTO:-0400
TZNAME:EDT
END:DAYLIGHT
END:VTIMEZONE
END:VCALENDAR