BEGIN:VCALENDAR
VERSION:2.0
PRODID:-//wp-events-plugin.com//7.2.3.1//EN
TZID:America/New_York
X-WR-TIMEZONE:America/New_York
BEGIN:VEVENT
UID:1276@ivhog.org
DTSTART;TZID=America/New_York:20210619T073000
DTEND;TZID=America/New_York:20210619T073000
DTSTAMP:20210518T001804Z
URL:http://www.ivhog.org/events/2021-wounded-warrior-escort/
SUMMARY:2021 Wounded Warrior Escort
DESCRIPTION:Please note starting point WaWa at 309 and Walnut Street in Col
 mar\, KSU 0730 Sharp! Short ride to the hotel with escort starting at 8:30
 .\n\n\n\n&nbsp\;\n\nThe Annual Wounded Hero 5K is an event located in Warm
 inster Pennsylvania on June 19\, 2021 to bring the community together in a
  show of support for our nation’s wounded Heroes. The day is full of mot
 ivation and inspiration. We strive to make this a fun-filled patriotic fam
 ily event! We have multiple events for your whole family to participate in
 : The Wounded Hero 5k\, Sgt. Sam Bonnano 1 Mile Memorial Walk\, and The ki
 ds “I RAN A MILE FOR A HERO” one mile fun run!\n\n&nbsp\;\n\nwww.wound
 edherorun.com\n\n&nbsp\;
CATEGORIES:Community Event,IVHOG Rides,Veterans Event
LOCATION:Wawa - Rt 309 119 Bethlehem Pike -Colmar\, 119 Bethlehem Pike\, Co
 lmar\, Pa\, 18915\, United States
GEO:40.2697459;-75.25495319999999
X-APPLE-STRUCTURED-LOCATION;VALUE=URI;X-ADDRESS=119 Bethlehem Pike\, Colmar
 \, Pa\, 18915\, United States;X-APPLE-RADIUS=100;X-TITLE=Wawa - Rt 309 119
  Bethlehem Pike -Colmar:geo:40.2697459,-75.25495319999999
END:VEVENT
BEGIN:VTIMEZONE
TZID:America/New_York
X-LIC-LOCATION:America/New_York
BEGIN:DAYLIGHT
DTSTART:20210314T030000
TZOFFSETFROM:-0500
TZOFFSETTO:-0400
TZNAME:EDT
END:DAYLIGHT
END:VTIMEZONE
END:VCALENDAR