BEGIN:VCALENDAR
VERSION:2.0
PRODID:-//wp-events-plugin.com//7.2.3.1//EN
TZID:America/New_York
X-WR-TIMEZONE:America/New_York
BEGIN:VEVENT
UID:1081@ivhog.org
DTSTART;TZID=America/New_York:20181117T083000
DTEND;TZID=America/New_York:20181117T113000
DTSTAMP:20181114T005131Z
URL:http://www.ivhog.org/events/35th-annual-lehigh-valley-a-b-a-t-e-toy-ru
 n/
SUMMARY:35th Annual Lehigh Valley A.B.A.T.E. Toy Run
DESCRIPTION:Ride description\n\n 	Hannum’s Sellersville to Dorney Park\n 
 	KSU 9am\n 	Backroads to Dorney park 42 miles 1 hour 15 minutes no stops\n
  	Dropping off toys and leaving\, not staying for parade that leaves at no
 on\n 	Ride back 35 miles (Turnpike or 309) 45 minutes\n 	EZPASS may be req
 uired\n
CATEGORIES:IVHOG Rides
LOCATION:Hannum's Harley-Davidson Sellersville PA\, 3255 State Road\, Sell
 ersville\, PA\, 18960\, United States
GEO:40.344734;-75.305969
X-APPLE-STRUCTURED-LOCATION;VALUE=URI;X-ADDRESS=3255 State Road\, Sellersvi
 lle\, PA\, 18960\, United States;X-APPLE-RADIUS=100;X-TITLE=Hannum's Harle
 y-Davidson Sellersville PA:geo:40.344734,-75.305969
END:VEVENT
BEGIN:VTIMEZONE
TZID:America/New_York
X-LIC-LOCATION:America/New_York
BEGIN:STANDARD
DTSTART:20181104T010000
TZOFFSETFROM:-0400
TZOFFSETTO:-0500
TZNAME:EST
END:STANDARD
END:VTIMEZONE
END:VCALENDAR