BEGIN:VCALENDAR
VERSION:2.0
PRODID:-//wp-events-plugin.com//7.2.3.1//EN
TZID:America/New_York
X-WR-TIMEZONE:America/New_York
BEGIN:VEVENT
UID:1230@ivhog.org
DTSTART;TZID=America/New_York:20201018T093000
DTEND;TZID=America/New_York:20201018T163000
DTSTAMP:20201005T214423Z
URL:http://www.ivhog.org/events/anniversary-fall-foliage-ride-covid/
SUMMARY:Anniversary Fall Foliage Ride- Covid Edition
DESCRIPTION:Our annual ride thru the country side to go leaf peeping\, IVHO
 G style!  Staying in PA so no helmets required. We will end up at the Slo
 peside Inn for lunch.\n\n\n\nhttps://www.skibluemt.com/dining-lodging/dini
 ng/slopeside/\n\n
CATEGORIES:IVHOG Rides
LOCATION:Wawa - 113 & Bethlehem Pike\, 3520 Bethlehem Pike\, Souderton\, Pa
 \, 18964\, United States
GEO:40.31885399999999;-75.3036495
X-APPLE-STRUCTURED-LOCATION;VALUE=URI;X-ADDRESS=3520 Bethlehem Pike\, Soude
 rton\, Pa\, 18964\, United States;X-APPLE-RADIUS=100;X-TITLE=Wawa - 113 & 
 Bethlehem Pike:geo:40.31885399999999,-75.3036495
END:VEVENT
BEGIN:VTIMEZONE
TZID:America/New_York
X-LIC-LOCATION:America/New_York
BEGIN:DAYLIGHT
DTSTART:20200308T030000
TZOFFSETFROM:-0500
TZOFFSETTO:-0400
TZNAME:EDT
END:DAYLIGHT
END:VTIMEZONE
END:VCALENDAR