BEGIN:VCALENDAR
VERSION:2.0
PRODID:-//wp-events-plugin.com//7.2.3.1//EN
TZID:America/New_York
X-WR-TIMEZONE:America/New_York
BEGIN:VEVENT
UID:1129@ivhog.org
DTSTART;TZID=America/New_York:20191019T093000
DTEND;TZID=America/New_York:20191019T143000
DTSTAMP:20191018T184653Z
URL:http://www.ivhog.org/events/anniversary-fall-foliage-ride/
SUMMARY:Anniversary Fall Foliage Ride -
DESCRIPTION:RIDE INFORMATION\nNO Description of this ride given by the Road
  Captain. Call him if you need to know.\nNO Times for this ride given by t
 he Road Captain. Call him if you need to know.\nNO Distance\, costs or Con
 siderations have been given by the Road Captain. Call him if you need to k
 now.\n\nSKILL LEVEL: 2- normal riding\nCOST: Money for Gas and snack\nDIST
 ANCE: Estimated 170 Miles Round Trip\n\n\n\n\n\n\n\n\n\n\n
CATEGORIES:IVHOG Rides
LOCATION:WAWA - Forty Foot Rd. Ralphs Corner\, 200 Forty Foot Rd. &amp\; We
 lsh Rd.\, Hatfield\, PA\, 19440\, United States
GEO:40.2630072;-75.31942379999998
X-APPLE-STRUCTURED-LOCATION;VALUE=URI;X-ADDRESS=200 Forty Foot Rd. & Welsh 
 Rd.\, Hatfield\, PA\, 19440\, United States;X-APPLE-RADIUS=100;X-TITLE=WAW
 A - Forty Foot Rd. Ralphs Corner:geo:40.2630072,-75.31942379999998
END:VEVENT
BEGIN:VTIMEZONE
TZID:America/New_York
X-LIC-LOCATION:America/New_York
BEGIN:DAYLIGHT
DTSTART:20190310T030000
TZOFFSETFROM:-0500
TZOFFSETTO:-0400
TZNAME:EDT
END:DAYLIGHT
END:VTIMEZONE
END:VCALENDAR