BEGIN:VCALENDAR
VERSION:2.0
PRODID:-//wp-events-plugin.com//7.2.3.1//EN
TZID:America/New_York
X-WR-TIMEZONE:America/New_York
BEGIN:VEVENT
UID:1085@ivhog.org
DTSTART;TZID=America/New_York:20190101T110000
DTEND;TZID=America/New_York:20190101T140000
DTSTAMP:20181230T193116Z
URL:http://www.ivhog.org/events/annual-new-years-day-ride-2/
SUMMARY:Annual New Years Day Ride
DESCRIPTION:In keeping with tradition\, we will be having our New Years Day
  ride on&nbsp\;Tuesday\, January 1\, 2019. Lead by George Wagenseller\, me
 et at the Colmar on 309 and Walnut St\, WAWA\, KSU&nbsp\;11:00 AM.&nbsp\;S
 hort ride thru the back roads of Bucks County. Come on out and start the y
 ear off right with your fellow chapter members.\n\n&nbsp\;\n\n\n\n&nbsp\;\
 n\n&nbsp\;
CATEGORIES:IVHOG Rides
LOCATION:Wawa - Rt 309 119 Bethlehem Pike -Colmar\, 119 Bethlehem Pike\, Co
 lmar\, Pa\, 18915\, United States
GEO:40.2697459;-75.25495319999999
X-APPLE-STRUCTURED-LOCATION;VALUE=URI;X-ADDRESS=119 Bethlehem Pike\, Colmar
 \, Pa\, 18915\, United States;X-APPLE-RADIUS=100;X-TITLE=Wawa - Rt 309 119
  Bethlehem Pike -Colmar:geo:40.2697459,-75.25495319999999
END:VEVENT
BEGIN:VTIMEZONE
TZID:America/New_York
X-LIC-LOCATION:America/New_York
BEGIN:STANDARD
DTSTART:20181104T010000
TZOFFSETFROM:-0400
TZOFFSETTO:-0500
TZNAME:EST
END:STANDARD
END:VTIMEZONE
END:VCALENDAR