BEGIN:VCALENDAR
VERSION:2.0
PRODID:-//wp-events-plugin.com//7.2.3.1//EN
TZID:America/New_York
X-WR-TIMEZONE:America/New_York
BEGIN:VEVENT
UID:746@ivhog.org
DTSTART;TZID=America/New_York:20160101T103000
DTEND;TZID=America/New_York:20160101T143000
DTSTAMP:20151206T185651Z
URL:http://www.ivhog.org/events/annual-new-years-day-ride/
SUMMARY:Annual New Years Day Ride
DESCRIPTION:Come start 2016 off with a Ride !! We will be meeting at the So
 uderton wawa with KSU 10:30 am .  George will determine the length and d
 irection of the ride based on the weather conditions .. We will be stoppin
 g for lunch to .. Come join us and start 2016 off on the right foot ..
CATEGORIES:IVHOG Rides
LOCATION:Wawa - 113 & Bethlehem Pike\, 3520 Bethlehem Pike\, Souderton\, Pa
 \, 18964\, United States
GEO:40.31885399999999;-75.3036495
X-APPLE-STRUCTURED-LOCATION;VALUE=URI;X-ADDRESS=3520 Bethlehem Pike\, Soude
 rton\, Pa\, 18964\, United States;X-APPLE-RADIUS=100;X-TITLE=Wawa - 113 & 
 Bethlehem Pike:geo:40.31885399999999,-75.3036495
END:VEVENT
BEGIN:VTIMEZONE
TZID:America/New_York
X-LIC-LOCATION:America/New_York
BEGIN:STANDARD
DTSTART:20151101T010000
TZOFFSETFROM:-0400
TZOFFSETTO:-0500
TZNAME:EST
END:STANDARD
END:VTIMEZONE
END:VCALENDAR