BEGIN:VCALENDAR
VERSION:2.0
PRODID:-//wp-events-plugin.com//7.2.3.1//EN
TZID:America/New_York
X-WR-TIMEZONE:America/New_York
BEGIN:VEVENT
UID:745@ivhog.org
DTSTART;TZID=America/New_York:20151127T090000
DTEND;TZID=America/New_York:20151127T160000
DTSTAMP:20151124T004612Z
URL:http://www.ivhog.org/events/another-dam-ride/
SUMMARY:Another Dam Ride!
DESCRIPTION:Supposed to be in the 60's on Friday! Anybody that has off and 
 wants to do another Dam ride (the Bald Eagles should definitely be more ac
 tive at this time of year!)\, meet me at the WaWa on Forty Foot Road in Ha
 tfield\, KSU 9:30am
CATEGORIES:IVHOG Rides
LOCATION:Conowingo Dam\, Route 1\, Darlington\, Maryland\, 21034\, United S
 tates
GEO:39.6514662;-76.21495900000002
X-APPLE-STRUCTURED-LOCATION;VALUE=URI;X-ADDRESS=Route 1\, Darlington\, Mary
 land\, 21034\, United States;X-APPLE-RADIUS=100;X-TITLE=Conowingo Dam:geo:
 39.6514662,-76.21495900000002
END:VEVENT
BEGIN:VTIMEZONE
TZID:America/New_York
X-LIC-LOCATION:America/New_York
BEGIN:STANDARD
DTSTART:20151101T010000
TZOFFSETFROM:-0400
TZOFFSETTO:-0500
TZNAME:EST
END:STANDARD
END:VTIMEZONE
END:VCALENDAR