BEGIN:VCALENDAR
VERSION:2.0
PRODID:-//wp-events-plugin.com//7.2.3.1//EN
TZID:America/New_York
X-WR-TIMEZONE:America/New_York
BEGIN:VEVENT
UID:1251@ivhog.org
DTSTART;TZID=America/New_York:20210605T190000
DTEND;TZID=America/New_York:20210605T230000
DTSTAMP:20210603T122004Z
URL:http://www.ivhog.org/events/baca-14th-annual-victims-benefit/
SUMMARY:BACA 14th Annual Victim's Benefit
DESCRIPTION:NO ROAD CAPTAIN OR REGISTRATION FOR THIS EVENT
CATEGORIES:Community Event,Inner Club Event,Other Club Event,Support
LOCATION:VFW POST 32 LANSDALE\, PA\, 805 W 2nd St\, Lansdale\, PA\, 19446?\
 , United States
GEO:40.2480106;-75.29217970000002
X-APPLE-STRUCTURED-LOCATION;VALUE=URI;X-ADDRESS=805 W 2nd St\, Lansdale\, P
 A\, 19446?\, United States;X-APPLE-RADIUS=100;X-TITLE=VFW POST 32 LANSDALE
 \, PA:geo:40.2480106,-75.29217970000002
END:VEVENT
BEGIN:VTIMEZONE
TZID:America/New_York
X-LIC-LOCATION:America/New_York
BEGIN:DAYLIGHT
DTSTART:20210314T030000
TZOFFSETFROM:-0500
TZOFFSETTO:-0400
TZNAME:EDT
END:DAYLIGHT
END:VTIMEZONE
END:VCALENDAR