BEGIN:VCALENDAR
VERSION:2.0
PRODID:-//wp-events-plugin.com//7.2.3.1//EN
TZID:America/New_York
X-WR-TIMEZONE:America/New_York
BEGIN:VEVENT
UID:1229@ivhog.org
DTSTART;TZID=America/New_York:20200718T093000
DTEND;TZID=America/New_York:20200718T123000
DTSTAMP:20200715T184438Z
URL:http://www.ivhog.org/events/back-the-blue-ride-north-penn-indian-valle
 y/
SUMMARY:Blue Ride\, North Penn/Indian Valley
DESCRIPTION:We will be meeting at WAWA in Souderton\, (SEE ADDRESS BELOW) a
 t 9:30 AM KSU.\n\nWe will ride down to the Montgomery County Mall to meet 
 up with the other Riders.\n\nEscorted ride through parts of Montgomery Cou
 nty to support our local police. The ride will start at Montgomery Mall an
 d end at the Franconia Township Park on the Godshall Road entrance. You ar
 e welcome to stay\, and hang out with us. We will provide food and drinks 
 at the park. Please decorate your Cars\, Motorcycle and Trucks to show you
 r support!!!. (No Political Signs Pleas) Donations will be accepted so we 
 can provide lunch at a later date for the local police departments. Any on
 e who chooses to participate in this even assumes any and all liabilities 
 for themselves their vehicles. Street-Legal vehicles only please.\n\nStagi
 ng is 10:00 am at Montgomery Mall Parking lot\, near Wegmans\, But closest
  to north Wales Road. Departing KSU 10:30 arriving at Franconia Park at 11
 :30am.\n\n&nbsp\;
CATEGORIES:Activities,Community Event,IVHOG Rides
LOCATION:Wawa - 113 & Bethlehem Pike\, 3520 Bethlehem Pike\, Souderton\, Pa
 \, 18964\, United States
GEO:40.31885399999999;-75.3036495
X-APPLE-STRUCTURED-LOCATION;VALUE=URI;X-ADDRESS=3520 Bethlehem Pike\, Soude
 rton\, Pa\, 18964\, United States;X-APPLE-RADIUS=100;X-TITLE=Wawa - 113 & 
 Bethlehem Pike:geo:40.31885399999999,-75.3036495
END:VEVENT
BEGIN:VTIMEZONE
TZID:America/New_York
X-LIC-LOCATION:America/New_York
BEGIN:DAYLIGHT
DTSTART:20200308T030000
TZOFFSETFROM:-0500
TZOFFSETTO:-0400
TZNAME:EDT
END:DAYLIGHT
END:VTIMEZONE
END:VCALENDAR