BEGIN:VCALENDAR
VERSION:2.0
PRODID:-//wp-events-plugin.com//7.2.3.1//EN
TZID:America/New_York
X-WR-TIMEZONE:America/New_York
BEGIN:VEVENT
UID:584@ivhog.org
DTSTART;TZID=America/New_York:20150404T080000
DTEND;TZID=America/New_York:20150404T143000
DTSTAMP:20150404T095141Z
URL:http://www.ivhog.org/events/battleship-nj-ride/
SUMMARY:Battleship NJ Ride
DESCRIPTION:&nbsp\;\n\nCome join us this Saturday 8 am at Wawa 63and 202 ..
 This ride coincides with Vietnam Veterans Day\, I believe the battleship w
 ill have other interesting events this day as well. In past years as well 
 as this year we can park our bikes on the actual dock up at the ship. Tour
 s will be given with an admission costs of $15 a person. K.S.U. 8:15\n\n
CATEGORIES:IVHOG Rides
LOCATION:wawa - Rt. 202 & 63\, 593 Dekalb Pike\, North Wales\, PA\, 19454\,
  United States
GEO:40.2345687;-75.24061489999997
X-APPLE-STRUCTURED-LOCATION;VALUE=URI;X-ADDRESS=593 Dekalb Pike\, North Wal
 es\, PA\, 19454\, United States;X-APPLE-RADIUS=100;X-TITLE=wawa - Rt. 202 
 & 63:geo:40.2345687,-75.24061489999997
END:VEVENT
BEGIN:VTIMEZONE
TZID:America/New_York
X-LIC-LOCATION:America/New_York
BEGIN:DAYLIGHT
DTSTART:20150308T030000
TZOFFSETFROM:-0500
TZOFFSETTO:-0400
TZNAME:EDT
END:DAYLIGHT
END:VTIMEZONE
END:VCALENDAR