BEGIN:VCALENDAR
VERSION:2.0
PRODID:-//wp-events-plugin.com//7.2.3.1//EN
TZID:America/New_York
X-WR-TIMEZONE:America/New_York
BEGIN:VEVENT
UID:1070@ivhog.org
DTSTART;TZID=America/New_York:20180805T103000
DTEND;TZID=America/New_York:20180805T150000
DTSTAMP:20180805T010905Z
URL:http://www.ivhog.org/events/beverly-hills-tavern/
SUMMARY:Beverly Hills Tavern
DESCRIPTION:Ride after the August 5th meeting for lunch. Backroads all the 
 way! No Helmets required and no EZPass!\n\nWeb Site for Beverly Hills Tave
 rn
CATEGORIES:IVHOG Rides
LOCATION:Beverly Hills Tavern\, 710 Old Fritztown Rd\, Reading\, PA\, Unite
 d States
GEO:40.306213;-75.99761710000001
X-APPLE-STRUCTURED-LOCATION;VALUE=URI;X-ADDRESS=710 Old Fritztown Rd\, Read
 ing\, PA\, United States;X-APPLE-RADIUS=100;X-TITLE=Beverly Hills Tavern:g
 eo:40.306213,-75.99761710000001
END:VEVENT
BEGIN:VTIMEZONE
TZID:America/New_York
X-LIC-LOCATION:America/New_York
BEGIN:DAYLIGHT
DTSTART:20180311T030000
TZOFFSETFROM:-0500
TZOFFSETTO:-0400
TZNAME:EDT
END:DAYLIGHT
END:VTIMEZONE
END:VCALENDAR