BEGIN:VCALENDAR
VERSION:2.0
PRODID:-//wp-events-plugin.com//7.2.3.1//EN
TZID:America/New_York
X-WR-TIMEZONE:America/New_York
BEGIN:VEVENT
UID:1280@ivhog.org
DTSTART;TZID=America/New_York:20210616T180000
DTEND;TZID=America/New_York:20210616T200000
DTSTAMP:20210610T192040Z
URL:http://www.ivhog.org/events/bike-night-hannums-h-d/
SUMMARY:BIKE NIGHT @ HANNUM'S H-D! SELLERSVILL PA
DESCRIPTION:\nBIKE NIGHT @ FREEDOM VALLEY H-D\n\n\n\nEVENT LOCATION\n\n\nFR
 EEDOM VALLEY HARLEY-DAVIDSON®\n3255 STATE ROAD\, SELLERSVILLE\, PA 18960\
 n\n\n\n\nJUNE 16\, 2021 6:00PM - 8:00PM\n\n\nWhen: Wednesday\, June 16th\n
 \nTime: 6pm - 8pm\n\nRide on over and bring your friends!\n\n\n\n\n\n\n\n\
 n\n\n\n
CATEGORIES:IVHOG Rides
LOCATION:Freedom Valley Harley Davidson\, 3255 State Road\, Sellersville\, 
 Pennsylvania\, 18960\, United States
GEO:40.344262;-75.3058603
X-APPLE-STRUCTURED-LOCATION;VALUE=URI;X-ADDRESS=3255 State Road\, Sellersvi
 lle\, Pennsylvania\, 18960\, United States;X-APPLE-RADIUS=100;X-TITLE=Free
 dom Valley Harley Davidson:geo:40.344262,-75.3058603
END:VEVENT
BEGIN:VTIMEZONE
TZID:America/New_York
X-LIC-LOCATION:America/New_York
BEGIN:DAYLIGHT
DTSTART:20210314T030000
TZOFFSETFROM:-0500
TZOFFSETTO:-0400
TZNAME:EDT
END:DAYLIGHT
END:VTIMEZONE
END:VCALENDAR