BEGIN:VCALENDAR
VERSION:2.0
PRODID:-//wp-events-plugin.com//7.2.3.1//EN
TZID:America/New_York
X-WR-TIMEZONE:America/New_York
BEGIN:VEVENT
UID:1247@ivhog.org
DTSTART;TZID=America/New_York:20210515T090000
DTEND;TZID=America/New_York:20210515T150000
DTSTAMP:20210514T194048Z
URL:http://www.ivhog.org/events/blue-comet-mc-armed-forces-run/
SUMMARY:Blue Comet MC – Armed Forces Run
DESCRIPTION:We welcome you to the Armed Forces Challenge Run\, a poker run 
 style event with games at every stop.\nRegistration is from 9:00 AM to 10:
 30 AM First bike out at 10 AM\, last bike out at 11 AM\nCost is $20 for a 
 rider and $10 for a passenger which includes lunch. All riders are welcome
  and there will be cash prizes.\nWe will also be offering AMA Road Rider
 ’s Points for AMA District 6 members\n\nBlue Comet Motorcycle Club\, 404
 2 Mensch Rd\, Skippack\, United States
CATEGORIES:IVHOG Rides
LOCATION:Wawa - 113 & Bethlehem Pike\, 3520 Bethlehem Pike\, Souderton\, Pa
 \, 18964\, United States
GEO:40.31885399999999;-75.3036495
X-APPLE-STRUCTURED-LOCATION;VALUE=URI;X-ADDRESS=3520 Bethlehem Pike\, Soude
 rton\, Pa\, 18964\, United States;X-APPLE-RADIUS=100;X-TITLE=Wawa - 113 & 
 Bethlehem Pike:geo:40.31885399999999,-75.3036495
END:VEVENT
BEGIN:VTIMEZONE
TZID:America/New_York
X-LIC-LOCATION:America/New_York
BEGIN:DAYLIGHT
DTSTART:20210314T030000
TZOFFSETFROM:-0500
TZOFFSETTO:-0400
TZNAME:EDT
END:DAYLIGHT
END:VTIMEZONE
END:VCALENDAR