BEGIN:VCALENDAR
VERSION:2.0
PRODID:-//wp-events-plugin.com//7.2.3.1//EN
TZID:America/New_York
X-WR-TIMEZONE:America/New_York
BEGIN:VEVENT
UID:1549@ivhog.org
DTSTART;TZID=America/New_York:20260516T090000
DTEND;TZID=America/New_York:20260516T140000
DTSTAMP:20260421T132243Z
URL:http://www.ivhog.org/events/blue-comets-armed-forces-run/
SUMMARY:Blue Comets Armed Forces Run
DESCRIPTION:$25 Drivers\n$40 Per Couple\nPrizes awarded for the best scores
 .\nLunch Included.\n\nClick here for the Meetup Event/RSVP page.
CATEGORIES:Other Club Event
LOCATION:Blue Comet MC Club House\, 4042 Mensch Rd\, Skippack\, PA\, 19474\
 , United States
GEO:40.22043499999999;-75.40787499999999
X-APPLE-STRUCTURED-LOCATION;VALUE=URI;X-ADDRESS=4042 Mensch Rd\, Skippack\,
  PA\, 19474\, United States;X-APPLE-RADIUS=100;X-TITLE=Blue Comet MC Club 
 House:geo:40.22043499999999,-75.40787499999999
END:VEVENT
BEGIN:VTIMEZONE
TZID:America/New_York
X-LIC-LOCATION:America/New_York
BEGIN:DAYLIGHT
DTSTART:20260308T030000
TZOFFSETFROM:-0500
TZOFFSETTO:-0400
TZNAME:EDT
END:DAYLIGHT
END:VTIMEZONE
END:VCALENDAR