BEGIN:VCALENDAR
VERSION:2.0
PRODID:-//wp-events-plugin.com//7.2.3.1//EN
TZID:America/New_York
X-WR-TIMEZONE:America/New_York
BEGIN:VEVENT
UID:1183@ivhog.org
DTSTART;TZID=America/New_York:20200229T190000
DTEND;TZID=America/New_York:20200229T190000
DTSTAMP:20200212T195839Z
URL:http://www.ivhog.org/events/bowling-night-3/
SUMMARY:Bowling Night
DESCRIPTION:THE DATE OF THIS EVENT HAS BEEN CHANGED FROM 2/22/2020 to 2/29/
 2020\, PLEASE UPDATE YOUR BOOKING IF YOU CAN NOT MAKE IT.\n\nBowling night
  is set up for Sat Feb 22nd at 7pm (they may try to push us back to 7:30 d
 epending on our total attending). PLEASE sign up as you would one of our r
 ides so I can give them an accurate headcount for our awesome group!! If y
 ou for whatever reason you can't sign up on site\, PLEASE text me your nam
 e and # attending (215-892-4922). Looking forward to a fun night with ever
 yone!!\n\n 	Please RSVP by Wed Feb 12th by 6pm!!!!\n
CATEGORIES:Activities
LOCATION:Thunderbird Lanes Warminster\, 1475 West Street Road\, Warminster\
 , PA\, 18974\, United States
GEO:40.2201726;-75.12300909999999
X-APPLE-STRUCTURED-LOCATION;VALUE=URI;X-ADDRESS=1475 West Street Road\, War
 minster\, PA\, 18974\, United States;X-APPLE-RADIUS=100;X-TITLE=Thunderbir
 d Lanes Warminster:geo:40.2201726,-75.12300909999999
END:VEVENT
BEGIN:VTIMEZONE
TZID:America/New_York
X-LIC-LOCATION:America/New_York
BEGIN:STANDARD
DTSTART:20191103T010000
TZOFFSETFROM:-0400
TZOFFSETTO:-0500
TZNAME:EST
END:STANDARD
END:VTIMEZONE
END:VCALENDAR