BEGIN:VCALENDAR
VERSION:2.0
PRODID:-//wp-events-plugin.com//7.2.3.1//EN
TZID:America/New_York
X-WR-TIMEZONE:America/New_York
BEGIN:VEVENT
UID:1188@ivhog.org
DTSTART;TZID=America/New_York:20200405T103000
DTEND;TZID=America/New_York:20200405T140000
DTSTAMP:20200326T204102Z
URL:http://www.ivhog.org/events/bowmanstown-diner-keystone-hd/
SUMMARY:Bowmanstown Diner & Keystone HD CANCELED
DESCRIPTION:SKILL LEVEL:  1-Novice\nCOST:  CASH ONLY bring more than $20.
 00 a person to be safe to cover Food and Gas\nDISTANCE 140 Miles Round Tri
 p\n\n\n\n\n\n[caption id="attachment_7931" align="aligncenter" width="150"
 ] E-ZPass If You have one[/caption]\n\n\n\nWander out the Bowmanstown Dine
 r (they take cash only) Return via the turn pike. we will wait for non-E-Z
 Pass users..
CATEGORIES:IVHOG Rides
LOCATION:Wawa - 113 & Bethlehem Pike\, 3520 Bethlehem Pike\, Souderton\, Pa
 \, 18964\, United States
GEO:40.31885399999999;-75.3036495
X-APPLE-STRUCTURED-LOCATION;VALUE=URI;X-ADDRESS=3520 Bethlehem Pike\, Soude
 rton\, Pa\, 18964\, United States;X-APPLE-RADIUS=100;X-TITLE=Wawa - 113 & 
 Bethlehem Pike:geo:40.31885399999999,-75.3036495
END:VEVENT
BEGIN:VTIMEZONE
TZID:America/New_York
X-LIC-LOCATION:America/New_York
BEGIN:DAYLIGHT
DTSTART:20200308T030000
TZOFFSETFROM:-0500
TZOFFSETTO:-0400
TZNAME:EDT
END:DAYLIGHT
END:VTIMEZONE
END:VCALENDAR