BEGIN:VCALENDAR
VERSION:2.0
PRODID:-//wp-events-plugin.com//7.2.3.1//EN
TZID:America/New_York
X-WR-TIMEZONE:America/New_York
BEGIN:VEVENT
UID:919@ivhog.org
DTSTART;TZID=America/New_York:20170507T100000
DTEND;TZID=America/New_York:20170507T150000
DTSTAMP:20170506T023115Z
URL:http://www.ivhog.org/events/brandywine-battlefield/
SUMMARY:POSTPONED - Brandywine Battlefield
DESCRIPTION:\n\nTIME AND LOCATION NOT SET\, CHECK BACK FOR DETAILS OR CALL 
 DAN.\n\nGoing to Brandywine Battlefield\n1491 Baltimore Pike\, Chadds Ford
 \, PA 19317\n\nBack roads to Chadds Ford PA to visit Brandywine Battlefiel
 d\, the largest Land Battle of the American Revolution.\n\nSKILL LEVEL:  
 2\nCOST: Bring Money for Food\, and Gas.\nDISTANCE 100 Miles Round Trip
CATEGORIES:IVHOG Rides
LOCATION:WAWA - Forty Foot Rd. Ralphs Corner\, 200 Forty Foot Rd. &amp\; We
 lsh Rd.\, Hatfield\, PA\, 19440\, United States
GEO:40.2630072;-75.31942379999998
X-APPLE-STRUCTURED-LOCATION;VALUE=URI;X-ADDRESS=200 Forty Foot Rd. & Welsh 
 Rd.\, Hatfield\, PA\, 19440\, United States;X-APPLE-RADIUS=100;X-TITLE=WAW
 A - Forty Foot Rd. Ralphs Corner:geo:40.2630072,-75.31942379999998
END:VEVENT
BEGIN:VTIMEZONE
TZID:America/New_York
X-LIC-LOCATION:America/New_York
BEGIN:DAYLIGHT
DTSTART:20170312T030000
TZOFFSETFROM:-0500
TZOFFSETTO:-0400
TZNAME:EDT
END:DAYLIGHT
END:VTIMEZONE
END:VCALENDAR