BEGIN:VCALENDAR
VERSION:2.0
PRODID:-//wp-events-plugin.com//7.2.3.1//EN
TZID:America/New_York
X-WR-TIMEZONE:America/New_York
BEGIN:VEVENT
UID:1309@ivhog.org
DTSTART;TZID=America/New_York:20210904T000000
DTEND;TZID=America/New_York:20210904T000000
DTSTAMP:20210901T142825Z
URL:http://www.ivhog.org/events/brandywine-dam-run-for-connner/
SUMMARY:BRANDYWINE DAM RUN FOR CONNNER
DESCRIPTION:This event is a Brandywine HD Event.\nNo ride is being led to t
 his event. Meet you there.\n\nMORE INFORMATION: http://www.ivhog.org/20th-
 annual-dam-run/&nbsp\;
CATEGORIES:Other Club Event
LOCATION:Brandywine Harley Davidson\, 1241 Baltimore Pike\, Chadds Ford\, P
 A\, 19317\, United States
GEO:39.879042;-75.552871
X-APPLE-STRUCTURED-LOCATION;VALUE=URI;X-ADDRESS=1241 Baltimore Pike\, Chadd
 s Ford\, PA\, 19317\, United States;X-APPLE-RADIUS=100;X-TITLE=Brandywine 
 Harley Davidson:geo:39.879042,-75.552871
END:VEVENT
BEGIN:VTIMEZONE
TZID:America/New_York
X-LIC-LOCATION:America/New_York
BEGIN:DAYLIGHT
DTSTART:20210314T030000
TZOFFSETFROM:-0500
TZOFFSETTO:-0400
TZNAME:EDT
END:DAYLIGHT
END:VTIMEZONE
END:VCALENDAR