BEGIN:VCALENDAR
VERSION:2.0
PRODID:-//wp-events-plugin.com//7.2.3.1//EN
TZID:America/New_York
X-WR-TIMEZONE:America/New_York
BEGIN:VEVENT
UID:570@ivhog.org
DTSTART;TZID=America/New_York:20141108T073000
DTEND;TZID=America/New_York:20141108T120000
DTSTAMP:20141029T020516Z
URL:http://www.ivhog.org/events/breakfast-ride/
SUMMARY:Breakfast Ride
DESCRIPTION:\n Come join us to help raise money for our veterans. We will m
 eet 7:30 with KSU 8:00 am. 100% proceeds goes to our vets...
CATEGORIES:IVHOG Rides
LOCATION:Wawa - 113 & Bethlehem Pike\, 3520 Bethlehem Pike\, Souderton\, Pa
 \, 18964\, United States
GEO:40.31885399999999;-75.3036495
X-APPLE-STRUCTURED-LOCATION;VALUE=URI;X-ADDRESS=3520 Bethlehem Pike\, Soude
 rton\, Pa\, 18964\, United States;X-APPLE-RADIUS=100;X-TITLE=Wawa - 113 & 
 Bethlehem Pike:geo:40.31885399999999,-75.3036495
END:VEVENT
BEGIN:VTIMEZONE
TZID:America/New_York
X-LIC-LOCATION:America/New_York
BEGIN:STANDARD
DTSTART:20141102T010000
TZOFFSETFROM:-0400
TZOFFSETTO:-0500
TZNAME:EST
END:STANDARD
END:VTIMEZONE
END:VCALENDAR