BEGIN:VCALENDAR
VERSION:2.0
PRODID:-//wp-events-plugin.com//7.2.3.1//EN
TZID:America/New_York
X-WR-TIMEZONE:America/New_York
BEGIN:VEVENT
UID:925@ivhog.org
DTSTART;TZID=America/New_York:20170611T080000
DTEND;TZID=America/New_York:20170611T160000
DTSTAMP:20170303T195452Z
URL:http://www.ivhog.org/events/brians-hd-bucks-county-hog-covered-bridge-
 poker-run/
SUMMARY:Brians HD\, Bucks County HOG\, Covered Bridge Poker Run
DESCRIPTION:22nd Annual Poker Run\n\nSKILL LEVEL:  2\nCOST: $20.00 Per Per
 son\, \, Plus Gas\, and any incidentals you may want.\nDISTANCE 120 Miles
  Round Trip
CATEGORIES:IVHOG Rides
LOCATION:wawa - Rt. 202 & 63\, 593 Dekalb Pike\, North Wales\, PA\, 19454\,
  United States
GEO:40.2345687;-75.24061489999997
X-APPLE-STRUCTURED-LOCATION;VALUE=URI;X-ADDRESS=593 Dekalb Pike\, North Wal
 es\, PA\, 19454\, United States;X-APPLE-RADIUS=100;X-TITLE=wawa - Rt. 202 
 & 63:geo:40.2345687,-75.24061489999997
END:VEVENT
BEGIN:VTIMEZONE
TZID:America/New_York
X-LIC-LOCATION:America/New_York
BEGIN:DAYLIGHT
DTSTART:20170312T030000
TZOFFSETFROM:-0500
TZOFFSETTO:-0400
TZNAME:EDT
END:DAYLIGHT
END:VTIMEZONE
END:VCALENDAR