BEGIN:VCALENDAR
VERSION:2.0
PRODID:-//wp-events-plugin.com//7.2.3.1//EN
TZID:America/New_York
X-WR-TIMEZONE:America/New_York
BEGIN:VEVENT
UID:779@ivhog.org
DTSTART;TZID=America/New_York:20160612T081500
DTEND;TZID=America/New_York:20160612T163000
DTSTAMP:20160410T105818Z
URL:http://www.ivhog.org/events/bucks-county-hog-covered-bridge-poker-run-
 2016/
SUMMARY:Bucks County HOG Covered Bridge Poker Run 2016
DESCRIPTION:We will be meeting ay WAWA 202 and 63 in lower gywenned with KS
 U 8:15 am . This ride is rated 2 . Cost is 20 PP\n\nSunday June 12th 2016
 \, Registration is 9:00 am to 11:00 am at Brian’s Harley Davidson.\n\nTh
 e Covered Bridge Poker Run is our signature ride and is open to everyone.
    Cost is $20 per person ($15 for Bucks County HOG members when purch
 ased in advance)\, and we will provide you with a preplanned route\, a rid
 e pin (while supplies last)\, and a party back at Brians HD afterwards. 
   For more information  send an email to CoveredBridge@buckshog.org.\n\
 nPurchase your ticket now from Brian’s Harley Davidson to ensure you g
 et a pin.\n\nNew this year\, we are discounting tickets $2 when a block
  of 10 is purchased in advance by other groups.  All 10 tickets must 
 be purchased at the same time to qualify.\n\nWhy covered bridges?  Beside
 s our liking the sound of our bikes while we ride through them\, the cover
 ed bridge is a significant historic structure in the Commonwealth of Penns
 ylvania. With an estimated 200 covered bridges\, Pennsylvania has the mo
 st of these magnificent structures remaining. Not only is the sheer numbe
 r important\, but the first known U.S. covered bridge crossed the Schuylki
 ll River at 30th Street in Philadelphia. Bucks County currently has 12 cov
 ered bridges still standing.\n\n(Source: Bucks County Covered Bridge Socie
 ty)\n\n* If it rains &amp\; you don’t ride\, you can still join the fun 
 at the party!\nCopy of ride route will be provided with paid admission.
CATEGORIES:Fund Raiser,H.O.G. Events
LOCATION:wawa - Rt. 202 & 63\, 593 Dekalb Pike\, North Wales\, PA\, 19454\,
  United States
GEO:40.2345687;-75.24061489999997
X-APPLE-STRUCTURED-LOCATION;VALUE=URI;X-ADDRESS=593 Dekalb Pike\, North Wal
 es\, PA\, 19454\, United States;X-APPLE-RADIUS=100;X-TITLE=wawa - Rt. 202 
 & 63:geo:40.2345687,-75.24061489999997
END:VEVENT
BEGIN:VTIMEZONE
TZID:America/New_York
X-LIC-LOCATION:America/New_York
BEGIN:DAYLIGHT
DTSTART:20160313T030000
TZOFFSETFROM:-0500
TZOFFSETTO:-0400
TZNAME:EDT
END:DAYLIGHT
END:VTIMEZONE
END:VCALENDAR