BEGIN:VCALENDAR
VERSION:2.0
PRODID:-//wp-events-plugin.com//7.2.3.1//EN
TZID:America/New_York
X-WR-TIMEZONE:America/New_York
BEGIN:VEVENT
UID:1197@ivhog.org
DTSTART;TZID=America/New_York:20200613T070000
DTEND;TZID=America/New_York:20200613T170000
DTSTAMP:20200513T220649Z
URL:http://www.ivhog.org/events/bvh-sports-bar-barryville-ny/
SUMMARY:CANCELLED ! BVH Sports Bar Barryville NY
DESCRIPTION:Long Day and Long Ride\, through NJ and NY.\nRide is advanced l
 evel\, consisting of group riding in congested traffic situations.\n\nSKIL
 L LEVEL:  3-Advanced\nCOST: Money for Food and Gas\nDISTANCE 300 Miles Ro
 und Trip\n\n\n\n\n\n[caption id="attachment_5182" align="aligncenter" widt
 h="150"] HELMET REQUIRED[/caption]\n\n\n[caption id="attachment_5959" alig
 n="aligncenter" width="150"] NO GUNS ALLOWED[/caption]\n\n\n[caption id="a
 ttachment_7931" align="aligncenter" width="150"] E-ZPass If You have one[/
 caption]\n\n\n[caption id="attachment_7969" align="aligncenter" width="150
 "] Nighttime Eyewear[/caption]\n\n\n\n&nbsp\;
CATEGORIES:IVHOG Rides
LOCATION:WAWA - Forty Foot Rd. Ralphs Corner\, 200 Forty Foot Rd. &amp\; We
 lsh Rd.\, Hatfield\, PA\, 19440\, United States
GEO:40.2630072;-75.31942379999998
X-APPLE-STRUCTURED-LOCATION;VALUE=URI;X-ADDRESS=200 Forty Foot Rd. & Welsh 
 Rd.\, Hatfield\, PA\, 19440\, United States;X-APPLE-RADIUS=100;X-TITLE=WAW
 A - Forty Foot Rd. Ralphs Corner:geo:40.2630072,-75.31942379999998
END:VEVENT
BEGIN:VTIMEZONE
TZID:America/New_York
X-LIC-LOCATION:America/New_York
BEGIN:DAYLIGHT
DTSTART:20200308T030000
TZOFFSETFROM:-0500
TZOFFSETTO:-0400
TZNAME:EDT
END:DAYLIGHT
END:VTIMEZONE
END:VCALENDAR