BEGIN:VCALENDAR
VERSION:2.0
PRODID:-//wp-events-plugin.com//7.2.3.1//EN
TZID:America/New_York
X-WR-TIMEZONE:America/New_York
BEGIN:VEVENT
UID:605@ivhog.org
DTSTART;TZID=America/New_York:20150613T070000
DTEND;TZID=America/New_York:20150613T190000
DTSTAMP:20150608T202917Z
URL:http://www.ivhog.org/events/cape-may-ride/
SUMMARY:Cape May ride
DESCRIPTION:We will start off following Ron Hawkins briefly  to Fort Washi
 ngton to escort wounded soldiers to Warminster for their 5 K. Then we will
  head out to Cape May from there. We will not be staying for the 5K
CATEGORIES:IVHOG Rides
LOCATION:wawa - Rt. 202 & 63\, 593 Dekalb Pike\, North Wales\, PA\, 19454\,
  United States
GEO:40.2345687;-75.24061489999997
X-APPLE-STRUCTURED-LOCATION;VALUE=URI;X-ADDRESS=593 Dekalb Pike\, North Wal
 es\, PA\, 19454\, United States;X-APPLE-RADIUS=100;X-TITLE=wawa - Rt. 202 
 & 63:geo:40.2345687,-75.24061489999997
END:VEVENT
BEGIN:VTIMEZONE
TZID:America/New_York
X-LIC-LOCATION:America/New_York
BEGIN:DAYLIGHT
DTSTART:20150308T030000
TZOFFSETFROM:-0500
TZOFFSETTO:-0400
TZNAME:EDT
END:DAYLIGHT
END:VTIMEZONE
END:VCALENDAR