BEGIN:VCALENDAR
VERSION:2.0
PRODID:-//wp-events-plugin.com//7.2.3.1//EN
TZID:America/New_York
X-WR-TIMEZONE:America/New_York
BEGIN:VEVENT
UID:927@ivhog.org
DTSTART;TZID=America/New_York:20170624T080000
DTEND;TZID=America/New_York:20170624T170000
DTSTAMP:20170303T202611Z
URL:http://www.ivhog.org/events/cape-may/
SUMMARY:Cape May
DESCRIPTION:Back roads and Highway Ride to Cape May for lunch and walk alon
 g the Boardwalk. Stop at Diamond Beach and Ride home.\n\nSKILL LEVEL:  3 
 Advanced Riders\, Long time in the saddle.\nCOST: Money for Lunch\, Gas\, 
 and anything else you may want to buy donw there.\nDISTANCE: 300+ Miles Ro
 und Trip\n\n[caption id="attachment_5182" align="alignleft" width="150"] H
 ELMET REQUIRED[/caption]\n\n[caption id="attachment_5959" align="alignleft
 " width="150"] NO GUNS ALLOWED[/caption]\n\n[caption id="attachment_7931" 
 align="alignleft" width="150"] E-ZPass If You have one[/caption]
CATEGORIES:IVHOG Rides
LOCATION:Wawa - 113 & Bethlehem Pike\, 3520 Bethlehem Pike\, Souderton\, Pa
 \, 18964\, United States
GEO:40.31885399999999;-75.3036495
X-APPLE-STRUCTURED-LOCATION;VALUE=URI;X-ADDRESS=3520 Bethlehem Pike\, Soude
 rton\, Pa\, 18964\, United States;X-APPLE-RADIUS=100;X-TITLE=Wawa - 113 & 
 Bethlehem Pike:geo:40.31885399999999,-75.3036495
END:VEVENT
BEGIN:VTIMEZONE
TZID:America/New_York
X-LIC-LOCATION:America/New_York
BEGIN:DAYLIGHT
DTSTART:20170312T030000
TZOFFSETFROM:-0500
TZOFFSETTO:-0400
TZNAME:EDT
END:DAYLIGHT
END:VTIMEZONE
END:VCALENDAR