BEGIN:VCALENDAR
VERSION:2.0
PRODID:-//wp-events-plugin.com//7.2.3.1//EN
TZID:America/New_York
X-WR-TIMEZONE:America/New_York
BEGIN:VEVENT
UID:269@ivhog.org
DTSTART;TZID=America/New_York:20140823T070000
DTEND;TZID=America/New_York:20140823T150000
DTSTAMP:20140725T193037Z
URL:http://www.ivhog.org/events/cedar-rapids-ride/
SUMMARY:Cedar Rapids Bar &amp\; Grille\, Barryville\, NY
DESCRIPTION:Cedar Rapids Bar &amp\; Grille\, Barryville\, NY (Helmets requi
 red)
CATEGORIES:IVHOG Rides
LOCATION:Wawa - Rt 309 119 Bethlehem Pike -Colmar\, 119 Bethlehem Pike\, Co
 lmar\, Pa\, 18915\, United States
GEO:40.2697459;-75.25495319999999
X-APPLE-STRUCTURED-LOCATION;VALUE=URI;X-ADDRESS=119 Bethlehem Pike\, Colmar
 \, Pa\, 18915\, United States;X-APPLE-RADIUS=100;X-TITLE=Wawa - Rt 309 119
  Bethlehem Pike -Colmar:geo:40.2697459,-75.25495319999999
END:VEVENT
BEGIN:VTIMEZONE
TZID:America/New_York
X-LIC-LOCATION:America/New_York
BEGIN:DAYLIGHT
DTSTART:20140309T030000
TZOFFSETFROM:-0500
TZOFFSETTO:-0400
TZNAME:EDT
END:DAYLIGHT
END:VTIMEZONE
END:VCALENDAR