BEGIN:VCALENDAR
VERSION:2.0
PRODID:-//wp-events-plugin.com//7.2.3.1//EN
TZID:America/New_York
X-WR-TIMEZONE:America/New_York
BEGIN:VEVENT
UID:615@ivhog.org
DTSTART;TZID=America/New_York:20150725T090000
DTEND;TZID=America/New_York:20150725T200000
DTSTAMP:20150322T183709Z
URL:http://www.ivhog.org/events/chesapeake-inn-md/
SUMMARY:Chesapeake Inn Md.
DESCRIPTION:&nbsp\;\n\n	\n\nDan Macy\n215-368-3305\n\nscubamace@verizon.net
 \n\n\nwill be leading this ride\n\n&nbsp\;
CATEGORIES:IVHOG Rides
LOCATION:WAWA - Forty Foot Rd. Ralphs Corner\, 200 Forty Foot Rd. &amp\; We
 lsh Rd.\, Hatfield\, PA\, 19440\, United States
GEO:40.2630072;-75.31942379999998
X-APPLE-STRUCTURED-LOCATION;VALUE=URI;X-ADDRESS=200 Forty Foot Rd. & Welsh 
 Rd.\, Hatfield\, PA\, 19440\, United States;X-APPLE-RADIUS=100;X-TITLE=WAW
 A - Forty Foot Rd. Ralphs Corner:geo:40.2630072,-75.31942379999998
END:VEVENT
BEGIN:VTIMEZONE
TZID:America/New_York
X-LIC-LOCATION:America/New_York
BEGIN:DAYLIGHT
DTSTART:20150308T030000
TZOFFSETFROM:-0500
TZOFFSETTO:-0400
TZNAME:EDT
END:DAYLIGHT
END:VTIMEZONE
END:VCALENDAR