BEGIN:VCALENDAR
VERSION:2.0
PRODID:-//wp-events-plugin.com//7.2.3.1//EN
TZID:America/New_York
X-WR-TIMEZONE:America/New_York
BEGIN:VEVENT
UID:1132@ivhog.org
DTSTART;TZID=America/New_York:20190413T180000
DTEND;TZID=America/New_York:20190413T213000
DTSTAMP:20190327T191808Z
URL:http://www.ivhog.org/events/chow-and-chatter/
SUMMARY:Chow and Chatter
DESCRIPTION:The 1st Chow and Chatter dinner event will take place a JT Bank
 ers in Sellersville\, PA. Please book before April 11\, 2019 as we need to
  provide JT Banker with the number of people that will be attending.&nbsp\
 ;
CATEGORIES:IVHOG Rides
LOCATION:JT Bankers\,  309 S. Main Street\, Sellersville\, PA\, 18960\, Uni
 ted States
GEO:40.352363;-75.30532699999998
X-APPLE-STRUCTURED-LOCATION;VALUE=URI;X-ADDRESS= 309 S. Main Street\, Selle
 rsville\, PA\, 18960\, United States;X-APPLE-RADIUS=100;X-TITLE=JT Bankers
 :geo:40.352363,-75.30532699999998
END:VEVENT
BEGIN:VTIMEZONE
TZID:America/New_York
X-LIC-LOCATION:America/New_York
BEGIN:DAYLIGHT
DTSTART:20190310T030000
TZOFFSETFROM:-0500
TZOFFSETTO:-0400
TZNAME:EDT
END:DAYLIGHT
END:VTIMEZONE
END:VCALENDAR