BEGIN:VCALENDAR
VERSION:2.0
PRODID:-//wp-events-plugin.com//7.2.3.1//EN
TZID:America/New_York
X-WR-TIMEZONE:America/New_York
BEGIN:VEVENT
UID:1314@ivhog.org
DTSTART;TZID=America/New_York:20211211T180000
DTEND;TZID=America/New_York:20211211T220000
DTSTAMP:20211029T231538Z
URL:http://www.ivhog.org/events/christmas-party-2021/
SUMMARY:Christmas Party 2021
DESCRIPTION:
CATEGORIES:H.O.G. Events
LOCATION:The Proper Brewing Company\, 117 W. Broad St.\, Quakertown \, Pa\,
  18951\, United States
GEO:40.441594;-75.335524
X-APPLE-STRUCTURED-LOCATION;VALUE=URI;X-ADDRESS=117 W. Broad St.\, Quakerto
 wn \, Pa\, 18951\, United States;X-APPLE-RADIUS=100;X-TITLE=The Proper Bre
 wing Company:geo:40.441594,-75.335524
END:VEVENT
BEGIN:VTIMEZONE
TZID:America/New_York
X-LIC-LOCATION:America/New_York
BEGIN:STANDARD
DTSTART:20211107T010000
TZOFFSETFROM:-0400
TZOFFSETTO:-0500
TZNAME:EST
END:STANDARD
END:VTIMEZONE
END:VCALENDAR