BEGIN:VCALENDAR
VERSION:2.0
PRODID:-//wp-events-plugin.com//7.2.3.1//EN
TZID:America/New_York
X-WR-TIMEZONE:America/New_York
BEGIN:VEVENT
UID:1250@ivhog.org
DTSTART;TZID=America/New_York:20210522T150000
DTEND;TZID=America/New_York:20210522T190000
DTSTAMP:20210402T164254Z
URL:http://www.ivhog.org/events/combat-vets-mc-lasagna-dinner/
SUMMARY:Combat Vets MC Lasagna Dinner
DESCRIPTION:NO ROAD CAPTAIN OR REGISTRATION FOR THIS EVENT\n\nMay 22nd 2021
 \, 3pm-7pm at VFW Post 6493. at 645 Louis Dr. Warminster\, PA 18974. Pleas
 e join us for a night of food &amp\; Fun\, benefiting the Veterans Island 
 Project\, $10.00 Donation at the door\, 50/50 and Booze Basket raffle.\n\n
 https://www.facebook.com/VFW-Post-6493-677272959063515/&nbsp\;
CATEGORIES:Fund Raiser,Inner Club Event,Other Club Event,Support,Veterans
 Event
LOCATION:VFW POST 6493 - Warminster PA.\, 645 Louis Dr\, Warminster\, PA\, 
 18974\, United States
GEO:40.20102;-75.084886
X-APPLE-STRUCTURED-LOCATION;VALUE=URI;X-ADDRESS=645 Louis Dr\, Warminster\,
  PA\, 18974\, United States;X-APPLE-RADIUS=100;X-TITLE=VFW POST 6493 - War
 minster PA.:geo:40.20102,-75.084886
END:VEVENT
BEGIN:VTIMEZONE
TZID:America/New_York
X-LIC-LOCATION:America/New_York
BEGIN:DAYLIGHT
DTSTART:20210314T030000
TZOFFSETFROM:-0500
TZOFFSETTO:-0400
TZNAME:EDT
END:DAYLIGHT
END:VTIMEZONE
END:VCALENDAR