BEGIN:VCALENDAR
VERSION:2.0
PRODID:-//wp-events-plugin.com//7.2.3.1//EN
TZID:America/New_York
X-WR-TIMEZONE:America/New_York
BEGIN:VEVENT
UID:1231@ivhog.org
DTSTART;TZID=America/New_York;VALUE=DATE:20201003
DTEND;TZID=America/New_York;VALUE=DATE:20201004
DTSTAMP:20200930T220022Z
URL:http://www.ivhog.org/events/corey-and-kimberlys-ride-continues/
SUMMARY:Corey and Kimberly's Ride Continues
DESCRIPTION:This is a nice 1 1/2-2 hour ride from Alburtis fire company\, b
 reakfast\, lunch\, t shirt and music included in registration fee.\nThis i
 s the 4 or 5th year for this ride\, I have attended the last 3 years. It i
 s a good time and proceeds go to Reach LV recovery center for addiction.\n
 \nRegistration begins at 9AM\, blessing of the bikes and KSU at 11AM\, ent
 ertainment at 1PM.\n
ATTACH;FMTTYPE=image/jpeg:http://www.ivhog.org/wp-content/uploads/IMG_3449
 -1-e1601555506338.png
CATEGORIES:Fund Raiser
LOCATION:Alburtis Fire Company\, 328 South Main St.\, Alburtis\, Pennsylvan
 ia\, 18011\, United States
GEO:40.508926;-75.602437
X-APPLE-STRUCTURED-LOCATION;VALUE=URI;X-ADDRESS=328 South Main St.\, Alburt
 is\, Pennsylvania\, 18011\, United States;X-APPLE-RADIUS=100;X-TITLE=Albur
 tis Fire Company:geo:40.508926,-75.602437
END:VEVENT
BEGIN:VTIMEZONE
TZID:America/New_York
X-LIC-LOCATION:America/New_York
BEGIN:DAYLIGHT
DTSTART:20200308T030000
TZOFFSETFROM:-0500
TZOFFSETTO:-0400
TZNAME:EDT
END:DAYLIGHT
END:VTIMEZONE
END:VCALENDAR