BEGIN:VCALENDAR
VERSION:2.0
PRODID:-//wp-events-plugin.com//7.2.3.1//EN
TZID:America/New_York
X-WR-TIMEZONE:America/New_York
BEGIN:VEVENT
UID:1308@ivhog.org
DTSTART;TZID=America/New_York:20211016T090000
DTEND;TZID=America/New_York:20211016T140000
DTSTAMP:20210912T194823Z
URL:http://www.ivhog.org/events/crazy-coffin-ride/
SUMMARY:Crazy Coffin Ride
DESCRIPTION:\n\n\n\n\nEvent by Blue Comet Motorcycle Club\n\n\n\n\n\n\n\n\
 n\n\n\nBlue Comet Motorcycle Club\n\n\n\n\n\n\n\n\n\n\n\nDuration: 5 hr\n\
 n\n\n\n\n\n\n\n\n\n\nPublic  · Anyone on or off Facebook\n\n\n\n\n\n\n
 \nThe Crazy Coffins are back! Come join us for our Crazy Coffin Run!\n$20 
 for Rider $10 for Passenger &amp\; Lunch is included ($5 for children unde
 r 12)\nRegistration From 9:30 to 11:00\nFirst Bike Out At 10:00\nRain or S
 hine\n\n
CATEGORIES:IVHOG Rides
LOCATION:Blue Comet MC Club House\, 4042 Mensch Rd\, Skippack\, PA\, 19474\
 , United States
GEO:40.22043499999999;-75.40787499999999
X-APPLE-STRUCTURED-LOCATION;VALUE=URI;X-ADDRESS=4042 Mensch Rd\, Skippack\,
  PA\, 19474\, United States;X-APPLE-RADIUS=100;X-TITLE=Blue Comet MC Club 
 House:geo:40.22043499999999,-75.40787499999999
END:VEVENT
BEGIN:VTIMEZONE
TZID:America/New_York
X-LIC-LOCATION:America/New_York
BEGIN:DAYLIGHT
DTSTART:20210314T030000
TZOFFSETFROM:-0500
TZOFFSETTO:-0400
TZNAME:EDT
END:DAYLIGHT
END:VTIMEZONE
END:VCALENDAR