BEGIN:VCALENDAR
VERSION:2.0
PRODID:-//wp-events-plugin.com//7.2.3.1//EN
TZID:America/New_York
X-WR-TIMEZONE:America/New_York
BEGIN:VEVENT
UID:806@ivhog.org
DTSTART;TZID=America/New_York:20160917T073000
DTEND;TZID=America/New_York:20160917T170000
DTSTAMP:20160912T223425Z
URL:http://www.ivhog.org/events/day-ride-to-maryland-for-oc-bike-week/
SUMMARY:DAY RIDE: To Maryland for OC Bike week
DESCRIPTION:Maryland for OC Bike week\, I'll be leaving from the WAWA at f
 orty foot road and 63\, AKA Ralph's Corner\n\nKSU 7:30am\, ez pass\, Must 
 Wear helmets and No guns\, be back around 5\n\nFor More information on the
  Events and what to expect\, see https://delmarvabikeweek.com/
CATEGORIES:IVHOG Rides
LOCATION:WAWA - Forty Foot Rd. Ralphs Corner\, 200 Forty Foot Rd. &amp\; We
 lsh Rd.\, Hatfield\, PA\, 19440\, United States
GEO:40.2630072;-75.31942379999998
X-APPLE-STRUCTURED-LOCATION;VALUE=URI;X-ADDRESS=200 Forty Foot Rd. & Welsh 
 Rd.\, Hatfield\, PA\, 19440\, United States;X-APPLE-RADIUS=100;X-TITLE=WAW
 A - Forty Foot Rd. Ralphs Corner:geo:40.2630072,-75.31942379999998
END:VEVENT
BEGIN:VTIMEZONE
TZID:America/New_York
X-LIC-LOCATION:America/New_York
BEGIN:DAYLIGHT
DTSTART:20160313T030000
TZOFFSETFROM:-0500
TZOFFSETTO:-0400
TZNAME:EDT
END:DAYLIGHT
END:VTIMEZONE
END:VCALENDAR