BEGIN:VCALENDAR
VERSION:2.0
PRODID:-//wp-events-plugin.com//7.2.3.1//EN
TZID:America/New_York
X-WR-TIMEZONE:America/New_York
BEGIN:VEVENT
UID:1310@ivhog.org
DTSTART;TZID=America/New_York:20211023T093000
DTEND;TZID=America/New_York:20211023T160000
DTSTAMP:20210914T011223Z
URL:http://www.ivhog.org/events/fall-foliage-ride-2021/
SUMMARY:Fall Foliage Ride 2021
DESCRIPTION:&nbsp\;\n\nIVHOG annual leaf peeping ride thru the country side
 . KSU 9:30 from the Souderton WaWa. Rain date of Sunday the 24th of Octobe
 r.\n\n&nbsp\;\n\n
CATEGORIES:IVHOG Rides
LOCATION:Wawa - 113 & Bethlehem Pike\, 3520 Bethlehem Pike\, Souderton\, Pa
 \, 18964\, United States
GEO:40.31885399999999;-75.3036495
X-APPLE-STRUCTURED-LOCATION;VALUE=URI;X-ADDRESS=3520 Bethlehem Pike\, Soude
 rton\, Pa\, 18964\, United States;X-APPLE-RADIUS=100;X-TITLE=Wawa - 113 & 
 Bethlehem Pike:geo:40.31885399999999,-75.3036495
END:VEVENT
BEGIN:VTIMEZONE
TZID:America/New_York
X-LIC-LOCATION:America/New_York
BEGIN:DAYLIGHT
DTSTART:20210314T030000
TZOFFSETFROM:-0500
TZOFFSETTO:-0400
TZNAME:EDT
END:DAYLIGHT
END:VTIMEZONE
END:VCALENDAR