BEGIN:VCALENDAR
VERSION:2.0
PRODID:-//wp-events-plugin.com//7.2.3.1//EN
TZID:America/New_York
X-WR-TIMEZONE:America/New_York
BEGIN:VEVENT
UID:811@ivhog.org
DTSTART;TZID=America/New_York:20161015T080000
DTEND;TZID=America/New_York:20161015T173000
DTSTAMP:20161008T182956Z
URL:http://www.ivhog.org/events/fall-foliage-ride/
SUMMARY:Fall Foliage Ride
DESCRIPTION:&nbsp\;\n\n\n\nJoin us as we head up to Cedar rapids bar and gr
 ill .This will be a long ride ! The ride is rated a 3 . The ride is approx
 imately 260 miles round trip .. Please decide beforehand if this is a ride
  for you .. Cost will be fuel and lunch ..We will be in NY. NO GUNS and HE
 LMET REQUIRED !!!!\n\n&nbsp\;
CATEGORIES:IVHOG Rides
LOCATION:Wawa - 113 & Bethlehem Pike\, 3520 Bethlehem Pike\, Souderton\, Pa
 \, 18964\, United States
GEO:40.31885399999999;-75.3036495
X-APPLE-STRUCTURED-LOCATION;VALUE=URI;X-ADDRESS=3520 Bethlehem Pike\, Soude
 rton\, Pa\, 18964\, United States;X-APPLE-RADIUS=100;X-TITLE=Wawa - 113 & 
 Bethlehem Pike:geo:40.31885399999999,-75.3036495
END:VEVENT
BEGIN:VTIMEZONE
TZID:America/New_York
X-LIC-LOCATION:America/New_York
BEGIN:DAYLIGHT
DTSTART:20160313T030000
TZOFFSETFROM:-0500
TZOFFSETTO:-0400
TZNAME:EDT
END:DAYLIGHT
END:VTIMEZONE
END:VCALENDAR