BEGIN:VCALENDAR
VERSION:2.0
PRODID:-//wp-events-plugin.com//7.2.3.1//EN
TZID:America/New_York
X-WR-TIMEZONE:America/New_York
BEGIN:VEVENT
UID:1224@ivhog.org
DTSTART;TZID=America/New_York:20200614T100000
DTEND;TZID=America/New_York:20200614T150000
DTSTAMP:20200610T003418Z
URL:http://www.ivhog.org/events/fathers-day-ride-2020-jimmygs-beverly-hill
 s-tavern/
SUMMARY:Father's Day Ride 2020-JimmyG's Beverly Hills Tavern
DESCRIPTION:Back roads to Reading for lunch at Jimmyg's.   (https://bever
 lyhillstavern.biz/) They have plenty of outdoor seating and lots of space 
 to spread out for lunch. No more than 4 to a table so choose your lunch bu
 ddies wisely!\n\nKSU 10:00 from the Ralphs Corner Wawa!\n\n&nbsp\;\n\n&nbs
 p\;\n\n&nbsp\;\n\n
CATEGORIES:IVHOG Rides
LOCATION:WAWA - Forty Foot Rd. Ralphs Corner\, 200 Forty Foot Rd. &amp\; We
 lsh Rd.\, Hatfield\, PA\, 19440\, United States
GEO:40.2630072;-75.31942379999998
X-APPLE-STRUCTURED-LOCATION;VALUE=URI;X-ADDRESS=200 Forty Foot Rd. & Welsh 
 Rd.\, Hatfield\, PA\, 19440\, United States;X-APPLE-RADIUS=100;X-TITLE=WAW
 A - Forty Foot Rd. Ralphs Corner:geo:40.2630072,-75.31942379999998
END:VEVENT
BEGIN:VTIMEZONE
TZID:America/New_York
X-LIC-LOCATION:America/New_York
BEGIN:DAYLIGHT
DTSTART:20200308T030000
TZOFFSETFROM:-0500
TZOFFSETTO:-0400
TZNAME:EDT
END:DAYLIGHT
END:VTIMEZONE
END:VCALENDAR