BEGIN:VCALENDAR
VERSION:2.0
PRODID:-//wp-events-plugin.com//7.2.3.1//EN
TZID:America/New_York
X-WR-TIMEZONE:America/New_York
BEGIN:VEVENT
UID:1355@ivhog.org
DTSTART;TZID=America/New_York:20220319T100000
DTEND;TZID=America/New_York:20220319T160000
DTSTAMP:20220319T125230Z
URL:http://www.ivhog.org/events/first-ride-to-pennington-nj-weather-permit
 ting-rain-date-is-sunday/
SUMMARY:Wildflowers Inn - Bar &amp\; Grill\,  Pennington\, NJ  - Were ON\,
DESCRIPTION:Pre-ride found many detours\, cinders\, and potholes on local r
 oads.  Decided to use mostly state roads to destination.  Located great 
 place for lunch with indoor patio style seating.\n\nPost is subject to cha
 nge so keep checking for updates.
CATEGORIES:IVHOG Rides
LOCATION:Wawa\, 201 Main Street\, HARLEYSVILLE\, PA\, 19438\, United States
GEO:40.264993;-75.371436
X-APPLE-STRUCTURED-LOCATION;VALUE=URI;X-ADDRESS=201 Main Street\, HARLEYSVI
 LLE\, PA\, 19438\, United States;X-APPLE-RADIUS=100;X-TITLE=Wawa:geo:40.26
 4993,-75.371436
END:VEVENT
BEGIN:VTIMEZONE
TZID:America/New_York
X-LIC-LOCATION:America/New_York
BEGIN:DAYLIGHT
DTSTART:20220313T030000
TZOFFSETFROM:-0500
TZOFFSETTO:-0400
TZNAME:EDT
END:DAYLIGHT
END:VTIMEZONE
END:VCALENDAR