BEGIN:VCALENDAR
VERSION:2.0
PRODID:-//wp-events-plugin.com//7.2.3.1//EN
TZID:America/New_York
X-WR-TIMEZONE:America/New_York
BEGIN:VEVENT
UID:1347@ivhog.org
DTSTART;TZID=America/New_York:20220626T073000
DTEND;TZID=America/New_York:20220626T160000
DTSTAMP:20220614T200736Z
URL:http://www.ivhog.org/events/flying-aces-breakfast-ride/
SUMMARY:Flying Aces breakfast Ride and Pocono Harley Davidson
DESCRIPTION:
CATEGORIES:IVHOG Rides
LOCATION:WAWA Souderton\, 3520 Bethlehem Pike\, Souderton\, pa\, 18964\, Un
 ited States
GEO:40.320278;-75.304228
X-APPLE-STRUCTURED-LOCATION;VALUE=URI;X-ADDRESS=3520 Bethlehem Pike\, Soude
 rton\, pa\, 18964\, United States;X-APPLE-RADIUS=100;X-TITLE=WAWA Souderto
 n:geo:40.320278,-75.304228
END:VEVENT
BEGIN:VTIMEZONE
TZID:America/New_York
X-LIC-LOCATION:America/New_York
BEGIN:DAYLIGHT
DTSTART:20220313T030000
TZOFFSETFROM:-0500
TZOFFSETTO:-0400
TZNAME:EDT
END:DAYLIGHT
END:VTIMEZONE
END:VCALENDAR