BEGIN:VCALENDAR
VERSION:2.0
PRODID:-//wp-events-plugin.com//7.2.3.1//EN
TZID:America/New_York
X-WR-TIMEZONE:America/New_York
BEGIN:VEVENT
UID:1249@ivhog.org
DTSTART;TZID=America/New_York:20210410T110000
DTEND;TZID=America/New_York:20210410T120000
DTSTAMP:20210402T163020Z
URL:http://www.ivhog.org/events/freedom-valley-hd-6th-annual-bike-blessing
 /
SUMMARY:Freedom Valley HD - 6th Annual Bike Blessing
DESCRIPTION:NO ROAD CAPTAIN OR REGISTRATION FOR THIS EVENT\n6th Annual Bike
  Blessing at Freedom Valley Harley Davidson\, Sellersville PA.\n
CATEGORIES:Other Club Event
LOCATION:Freedom Valley Harley Davidson\, 3255 State Road\, Sellersville\, 
 PA\, USA\, 18960\, United States
GEO:40.344341;-75.305054
X-APPLE-STRUCTURED-LOCATION;VALUE=URI;X-ADDRESS=3255 State Road\, Sellersvi
 lle\, PA\, USA\, 18960\, United States;X-APPLE-RADIUS=100;X-TITLE=Freedom 
 Valley Harley Davidson:geo:40.344341,-75.305054
END:VEVENT
BEGIN:VTIMEZONE
TZID:America/New_York
X-LIC-LOCATION:America/New_York
BEGIN:DAYLIGHT
DTSTART:20210314T030000
TZOFFSETFROM:-0500
TZOFFSETTO:-0400
TZNAME:EDT
END:DAYLIGHT
END:VTIMEZONE
END:VCALENDAR