BEGIN:VCALENDAR
VERSION:2.0
PRODID:-//wp-events-plugin.com//7.2.3.1//EN
TZID:America/New_York
X-WR-TIMEZONE:America/New_York
BEGIN:VEVENT
UID:922@ivhog.org
DTSTART;TZID=America/New_York:20170527T070000
DTEND;TZID=America/New_York:20170527T180000
DTSTAMP:20170303T160510Z
URL:http://www.ivhog.org/events/ft-washington-hd-memorial-day-ride-to-wall
 -area/
SUMMARY:FT Washington HD - Memorial Day Ride to Wall Area
DESCRIPTION:Memorial day Ride to Fort Washington Harley-Davidson\, the Wall
  area\n\nSKILL LEVEL:  2\nCOST: Money for Food and Gas\, and Tolls if you
  dont have E-ZPass\nDISTANCE 368 Miles Round Trip\n\n[caption id="attachm
 ent_5182" align="alignleft" width="150"] HELMET REQUIRED[/caption]\n\n[cap
 tion id="attachment_5959" align="alignleft" width="150"] NO GUNS ALLOWED[/
 caption]\n\n[caption id="attachment_7931" align="alignleft" width="150"] E
 -ZPass If You have one[/caption]
CATEGORIES:IVHOG Rides
LOCATION:LUC Oil - 40FT Road and Sumneytown Pk\, 1685 Sumneytown Pike\, Lan
 sdale\, PA\, 19446\, United States
GEO:40.2445741;-75.33903699999996
X-APPLE-STRUCTURED-LOCATION;VALUE=URI;X-ADDRESS=1685 Sumneytown Pike\, Lans
 dale\, PA\, 19446\, United States;X-APPLE-RADIUS=100;X-TITLE=LUC Oil - 40F
 T Road and Sumneytown Pk:geo:40.2445741,-75.33903699999996
END:VEVENT
BEGIN:VTIMEZONE
TZID:America/New_York
X-LIC-LOCATION:America/New_York
BEGIN:DAYLIGHT
DTSTART:20170312T030000
TZOFFSETFROM:-0500
TZOFFSETTO:-0400
TZNAME:EDT
END:DAYLIGHT
END:VTIMEZONE
END:VCALENDAR