BEGIN:VCALENDAR
VERSION:2.0
PRODID:-//wp-events-plugin.com//7.2.3.1//EN
TZID:America/New_York
X-WR-TIMEZONE:America/New_York
BEGIN:VEVENT
UID:930@ivhog.org
DTSTART;TZID=America/New_York:20170703T070000
DTEND;TZID=America/New_York:20170703T170000
DTSTAMP:20170320T215421Z
URL:http://www.ivhog.org/events/gettysburg-ride-154th-anniversary-of-the-b
 attle-of-gettysburg/
SUMMARY:Gettysburg Ride - 154th Anniversary of the Battle of Gettysburg
DESCRIPTION:We will be visiting for the 154th Anniversary of the Battle of 
 Gettysburg. We will be driving Mostly Highway  to Gettysburg\, with a sel
 f guided tour of the battlefield. We will stop for lunch on the way home. 
 (Lunch location to be determined).\n\nSKILL LEVEL:  2 - Intermediate Ride
 \nCOST: Money for Lunch and Snacks\, and Gas.\nDISTANCE Estimated 300 Mile
 s Round Trip\n\n\n\n\n\n[caption id="attachment_7931" align="alignleft" wi
 dth="150"] E-ZPass If You have one[/caption]\n\n\n[caption id="attachment_
 7969" align="alignleft" width="150"] Nighttime Eyewear[/caption]\n\n\n\n\n
CATEGORIES:IVHOG Rides
LOCATION:WAWA - Forty Foot Rd. Ralphs Corner\, 200 Forty Foot Rd. &amp\; We
 lsh Rd.\, Hatfield\, PA\, 19440\, United States
GEO:40.2630072;-75.31942379999998
X-APPLE-STRUCTURED-LOCATION;VALUE=URI;X-ADDRESS=200 Forty Foot Rd. & Welsh 
 Rd.\, Hatfield\, PA\, 19440\, United States;X-APPLE-RADIUS=100;X-TITLE=WAW
 A - Forty Foot Rd. Ralphs Corner:geo:40.2630072,-75.31942379999998
END:VEVENT
BEGIN:VTIMEZONE
TZID:America/New_York
X-LIC-LOCATION:America/New_York
BEGIN:DAYLIGHT
DTSTART:20170312T030000
TZOFFSETFROM:-0500
TZOFFSETTO:-0400
TZNAME:EDT
END:DAYLIGHT
END:VTIMEZONE
END:VCALENDAR