BEGIN:VCALENDAR
VERSION:2.0
PRODID:-//wp-events-plugin.com//7.2.3.1//EN
TZID:America/New_York
X-WR-TIMEZONE:America/New_York
BEGIN:VEVENT
UID:637@ivhog.org
DTSTART;TZID=America/New_York:20150926T070000
DTEND;TZID=America/New_York:20150926T170000
DTSTAMP:20150510T012441Z
URL:http://www.ivhog.org/events/h-o-g-pin-stop-at-york-plant-open-house/
SUMMARY:H.O.G. Pin Stop at York Plant Open House
DESCRIPTION:Come join us as we go to the open house.. We will be stopping f
 or breakfast along the way.\n\nThe Harley-Davidson staff welcomes you to t
 he York Open House. H.O.G. members pick you your special event pin! Free 2
 016 H-D motorcycle demos and free factory tours. Established as an assembl
 y facility in 1973\, Harley-Davidson Vehicle Operations in York\, PA assem
 bles the Touring\, Softail®\, CVO™ and Trike models. For factory tour i
 nformation\, call l 1-877-883-1450 (toll free).
CATEGORIES:Open House
LOCATION:Wawa - 113 & Bethlehem Pike\, 3520 Bethlehem Pike\, Souderton\, Pa
 \, 18964\, United States
GEO:40.31885399999999;-75.3036495
X-APPLE-STRUCTURED-LOCATION;VALUE=URI;X-ADDRESS=3520 Bethlehem Pike\, Soude
 rton\, Pa\, 18964\, United States;X-APPLE-RADIUS=100;X-TITLE=Wawa - 113 & 
 Bethlehem Pike:geo:40.31885399999999,-75.3036495
END:VEVENT
BEGIN:VTIMEZONE
TZID:America/New_York
X-LIC-LOCATION:America/New_York
BEGIN:DAYLIGHT
DTSTART:20150308T030000
TZOFFSETFROM:-0500
TZOFFSETTO:-0400
TZNAME:EDT
END:DAYLIGHT
END:VTIMEZONE
END:VCALENDAR