BEGIN:VCALENDAR
VERSION:2.0
PRODID:-//wp-events-plugin.com//7.2.3.1//EN
TZID:America/New_York
X-WR-TIMEZONE:America/New_York
BEGIN:VEVENT
UID:1246@ivhog.org
DTSTART;TZID=America/New_York:20210522T083000
DTEND;TZID=America/New_York:20210522T160000
DTSTAMP:20210511T170644Z
URL:http://www.ivhog.org/events/harley-drag-racing-in-maryland-2021/
SUMMARY:Harley Drag Racing in Maryland 2021
DESCRIPTION:Come see local legend Tracy Kile race Top Fuel Harleys in Maryl
 and. KSU 8:30 am from the WaWa at Forty Ft Road by Lowes. Entry fee is $5.
 00 off with a HOG or ABATE membership card!\n\n\n\n\n\nhttps://cecilcounty
 dragway.com\n\nhttps://badappleracing.com
CATEGORIES:Group Trip,H.O.G. Events,IVHOG Rides
LOCATION:WaWa Forty Ft Rd\, Hatfield\, 200 Forty Ft Rd\, Hatfield\, PA\, 19
 440\, United States
GEO:40.2629474;-75.32031889999996
X-APPLE-STRUCTURED-LOCATION;VALUE=URI;X-ADDRESS=200 Forty Ft Rd\, Hatfield\
 , PA\, 19440\, United States;X-APPLE-RADIUS=100;X-TITLE=WaWa Forty Ft Rd\,
  Hatfield:geo:40.2629474,-75.32031889999996
END:VEVENT
BEGIN:VTIMEZONE
TZID:America/New_York
X-LIC-LOCATION:America/New_York
BEGIN:DAYLIGHT
DTSTART:20210314T030000
TZOFFSETFROM:-0500
TZOFFSETTO:-0400
TZNAME:EDT
END:DAYLIGHT
END:VTIMEZONE
END:VCALENDAR