BEGIN:VCALENDAR
VERSION:2.0
PRODID:-//wp-events-plugin.com//7.2.3.1//EN
TZID:America/New_York
X-WR-TIMEZONE:America/New_York
BEGIN:VEVENT
UID:1356@ivhog.org
DTSTART;TZID=America/New_York:20220507T090000
DTEND;TZID=America/New_York:20220507T173000
DTSTAMP:20220506T112234Z
URL:http://www.ivhog.org/events/harold-deli-edison-nj-may-7th/
SUMMARY:Harold Deli-Edison\, NJ MAY 7TH-CANCELLED
DESCRIPTION:Meet Ralphs Corner 200 Forty Foot Rd  Wawa Hatfield- meet at 8
 :30 am - KSU 9 AM-5:30PM\n\nI STRONGLY ENCOURAGE EVERYONE THAT IS GOING OR
  INTERESTED TO GO PLEASE GO ON HAROLD'S DELI WEBSITE AND REVIEW THE MENU. 
 THIS IS PRICEY FOR A DELI BECAUSE IT IS ENCOURAGED TO SHARE OR A HEAVY APP
 ETITE. BUT WORTH THE EXPERIENCE.\n\nThanks Bunny\n\nCONTACT - Jack Cosenza
 \n\nWell with the exciting weekend Mothers Day Rainy weather I believe it 
 would be best to cancel this ride. I guess Mother Nature wants everyone to
  spend as much time with their children as you can if that applies to you.
   Enjoy see you at the meeting.\n
CATEGORIES:IVHOG Rides
LOCATION:Harolds Deli\, 1173 King Georges Post Rd\, Edison\, nj\, 08837\, U
 nited States
GEO:40.52287;-74.336681
X-APPLE-STRUCTURED-LOCATION;VALUE=URI;X-ADDRESS=1173 King Georges Post Rd\,
  Edison\, nj\, 08837\, United States;X-APPLE-RADIUS=100;X-TITLE=Harolds De
 li:geo:40.52287,-74.336681
END:VEVENT
BEGIN:VTIMEZONE
TZID:America/New_York
X-LIC-LOCATION:America/New_York
BEGIN:DAYLIGHT
DTSTART:20220313T030000
TZOFFSETFROM:-0500
TZOFFSETTO:-0400
TZNAME:EDT
END:DAYLIGHT
END:VTIMEZONE
END:VCALENDAR