BEGIN:VCALENDAR
VERSION:2.0
PRODID:-//wp-events-plugin.com//7.2.3.1//EN
TZID:America/New_York
X-WR-TIMEZONE:America/New_York
BEGIN:VEVENT
UID:1315@ivhog.org
DTSTART;TZID=America/New_York:20211113T093000
DTEND;TZID=America/New_York:20211113T140000
DTSTAMP:20211031T193829Z
URL:http://www.ivhog.org/events/hatboro-cruisers-support-officer-ryan-alle
 n/
SUMMARY:Hatboro Cruisers -Support Officer Ryan Allen
DESCRIPTION:&nbsp\;\n\nHatboro Police Officer Ryan Allen is in the hospital
  due to a severe reaction to a Bee bite. His wife is pregnant with their c
 hild and they already know it will be a boy.\nIf we all could gather donat
 ions of baby boy items Diapers being a huge help …we will meet at the Ol
 d Mill in parking lot assemble then proceed to deliver the donations to Of
 ficer Ryan Allen and his wife.\n\nMore information can be obtained by visi
 ting: https://www.facebook.com/events/2502935566505724
CATEGORIES:Community Event,Other Club Event
LOCATION:wawa - Rt. 202 & 63\, 593 Dekalb Pike\, North Wales\, PA\, 19454\,
  United States
GEO:40.2345687;-75.24061489999997
X-APPLE-STRUCTURED-LOCATION;VALUE=URI;X-ADDRESS=593 Dekalb Pike\, North Wal
 es\, PA\, 19454\, United States;X-APPLE-RADIUS=100;X-TITLE=wawa - Rt. 202 
 & 63:geo:40.2345687,-75.24061489999997
END:VEVENT
BEGIN:VTIMEZONE
TZID:America/New_York
X-LIC-LOCATION:America/New_York
BEGIN:STANDARD
DTSTART:20211107T010000
TZOFFSETFROM:-0400
TZOFFSETTO:-0500
TZNAME:EST
END:STANDARD
END:VTIMEZONE
END:VCALENDAR