BEGIN:VCALENDAR
VERSION:2.0
PRODID:-//wp-events-plugin.com//7.2.3.1//EN
TZID:America/New_York
X-WR-TIMEZONE:America/New_York
BEGIN:VEVENT
UID:808@ivhog.org
DTSTART;TZID=America/New_York:20161022T170000
DTEND;TZID=America/New_York:20161022T213000
DTSTAMP:20161022T211407Z
URL:http://www.ivhog.org/events/haunted-hay-ride/
SUMMARY:Canceled -Haunted Hay Ride
DESCRIPTION:Tylersport fire company haunted hayride . Join us for a scary
  evening with good friends .. We will meet at Hannums and stop at Jessies 
  BBQ for our last supper before we head to Tylersport Fire co . for a rid
 e you won’t soon forget … Come out for a fun ( lol ) Evening … We Wi
 ll meet 10-22 at HOS 5pm  This event is open to everyone . Cost is 10.00 
 pp plus gas and food . Hope to see you there …….GARY
CATEGORIES:IVHOG Rides
LOCATION:Hannum's Harley-Davidson Sellersville PA\, 3255 State Road\, Sell
 ersville\, PA\, 18960\, United States
GEO:40.344734;-75.305969
X-APPLE-STRUCTURED-LOCATION;VALUE=URI;X-ADDRESS=3255 State Road\, Sellersvi
 lle\, PA\, 18960\, United States;X-APPLE-RADIUS=100;X-TITLE=Hannum's Harle
 y-Davidson Sellersville PA:geo:40.344734,-75.305969
END:VEVENT
BEGIN:VTIMEZONE
TZID:America/New_York
X-LIC-LOCATION:America/New_York
BEGIN:DAYLIGHT
DTSTART:20160313T030000
TZOFFSETFROM:-0500
TZOFFSETTO:-0400
TZNAME:EDT
END:DAYLIGHT
END:VTIMEZONE
END:VCALENDAR