BEGIN:VCALENDAR
VERSION:2.0
PRODID:-//wp-events-plugin.com//7.2.3.1//EN
TZID:America/New_York
X-WR-TIMEZONE:America/New_York
BEGIN:VEVENT
UID:1072@ivhog.org
DTSTART;TZID=America/New_York:20180812T130000
DTEND;TZID=America/New_York:20180812T150000
DTSTAMP:20180812T020420Z
URL:http://www.ivhog.org/events/ice-cream-ride/
SUMMARY:Ice Cream Ride
DESCRIPTION:Ice cream ride to Owowcow thru the backroads of Bucks County\, 
 Jad Eisert will be leading\n\nhttp://www.owowcow.com/\n\n&nbsp\;\n\n&nbsp\
 ;\n\n&nbsp\;\n\n&nbsp\;
CATEGORIES:IVHOG Rides
LOCATION:WaWa\, 3520 Bethlehem Pike\, Souderton\, PA\, 18963\, United State
 s
GEO:40.3203185;-75.30440929999997
X-APPLE-STRUCTURED-LOCATION;VALUE=URI;X-ADDRESS=3520 Bethlehem Pike\, Soude
 rton\, PA\, 18963\, United States;X-APPLE-RADIUS=100;X-TITLE=WaWa:geo:40.3
 203185,-75.30440929999997
END:VEVENT
BEGIN:VTIMEZONE
TZID:America/New_York
X-LIC-LOCATION:America/New_York
BEGIN:DAYLIGHT
DTSTART:20180311T030000
TZOFFSETFROM:-0500
TZOFFSETTO:-0400
TZNAME:EDT
END:DAYLIGHT
END:VTIMEZONE
END:VCALENDAR